BEGIN:VCALENDAR
VERSION:2.0
PRODID:-//CAVE Akron - ECPv6.15.20//NONSGML v1.0//EN
CALSCALE:GREGORIAN
METHOD:PUBLISH
X-ORIGINAL-URL:https://www.caveakron.org
X-WR-CALDESC:Events for CAVE Akron
REFRESH-INTERVAL;VALUE=DURATION:PT1H
X-Robots-Tag:noindex
X-PUBLISHED-TTL:PT1H
BEGIN:VTIMEZONE
TZID:America/Detroit
BEGIN:DAYLIGHT
TZOFFSETFROM:-0500
TZOFFSETTO:-0400
TZNAME:EDT
DTSTART:20210314T070000
END:DAYLIGHT
BEGIN:STANDARD
TZOFFSETFROM:-0400
TZOFFSETTO:-0500
TZNAME:EST
DTSTART:20211107T060000
END:STANDARD
BEGIN:DAYLIGHT
TZOFFSETFROM:-0500
TZOFFSETTO:-0400
TZNAME:EDT
DTSTART:20220313T070000
END:DAYLIGHT
BEGIN:STANDARD
TZOFFSETFROM:-0400
TZOFFSETTO:-0500
TZNAME:EST
DTSTART:20221106T060000
END:STANDARD
BEGIN:DAYLIGHT
TZOFFSETFROM:-0500
TZOFFSETTO:-0400
TZNAME:EDT
DTSTART:20230312T070000
END:DAYLIGHT
BEGIN:STANDARD
TZOFFSETFROM:-0400
TZOFFSETTO:-0500
TZNAME:EST
DTSTART:20231105T060000
END:STANDARD
BEGIN:DAYLIGHT
TZOFFSETFROM:-0500
TZOFFSETTO:-0400
TZNAME:EDT
DTSTART:20240310T070000
END:DAYLIGHT
BEGIN:STANDARD
TZOFFSETFROM:-0400
TZOFFSETTO:-0500
TZNAME:EST
DTSTART:20241103T060000
END:STANDARD
END:VTIMEZONE
BEGIN:VEVENT
DTSTART;TZID=America/Detroit:20230826T160000
DTEND;TZID=America/Detroit:20230826T160000
DTSTAMP:20260419T163445
CREATED:20240302T041015Z
LAST-MODIFIED:20240302T071944Z
UID:485-1693065600-1693065600@www.caveakron.org
SUMMARY:DirtyD / Princess Tha P / Jihad / DJ Palaces
DESCRIPTION:Mad Minds 2 – Hip Hop Night at the CAVE featuring DirtyD\, Princess Tha P\, Jihad\, DJ Palaces
URL:https://www.caveakron.org/calendar/dirtyd-princess-tha-p-jihad-dj-palaces/
ATTACH;FMTTYPE=image/png:https://www.caveakron.org/wp-content/uploads/2024/03/511C56D8-AEE5-481D-9D57-060E73AFA84F.png
END:VEVENT
BEGIN:VEVENT
DTSTART;TZID=America/Detroit:20230812T160000
DTEND;TZID=America/Detroit:20230812T160000
DTSTAMP:20260419T163445
CREATED:20240302T041345Z
LAST-MODIFIED:20240302T072035Z
UID:487-1691856000-1691856000@www.caveakron.org
SUMMARY:Robert Turman / YOHIMBE / Dr. Quinn\, Medicine Woman
DESCRIPTION:Robert Turman\nYOHIMBE\nDr. Quinn\, Medicine Woman
URL:https://www.caveakron.org/calendar/robert-turman-yohimbe-dr-quinn-medicine-woman/
ATTACH;FMTTYPE=image/jpeg:https://www.caveakron.org/wp-content/uploads/2024/03/B3F2EB66-217A-4E00-9F74-06368D53990F.jpeg
END:VEVENT
BEGIN:VEVENT
DTSTART;TZID=America/Detroit:20230728T160000
DTEND;TZID=America/Detroit:20230728T160000
DTSTAMP:20260419T163445
CREATED:20240302T041653Z
LAST-MODIFIED:20240302T072352Z
UID:489-1690560000-1690560000@www.caveakron.org
SUMMARY:Water Witches (ATHENS) / Pretty Mean (CIN) / Brood X
DESCRIPTION:Water Witches \nhttps://waterwitches.bandcamp.com/music \nPretty Mean \nhttps://prettymean.bandcamp.com/music \nBrood X \nhttps://broodex.bandcamp.com/album/teeth
URL:https://www.caveakron.org/calendar/water-witches-athens-pretty-mean-cin-brood-x/
ATTACH;FMTTYPE=image/jpeg:https://www.caveakron.org/wp-content/uploads/2024/03/F9C1DF1E-2A39-4416-ACF8-BA34B0997C39.jpeg
END:VEVENT
BEGIN:VEVENT
DTSTART;TZID=America/Detroit:20230715T160000
DTEND;TZID=America/Detroit:20230715T160000
DTSTAMP:20260419T163445
CREATED:20240302T042451Z
LAST-MODIFIED:20240302T072445Z
UID:494-1689436800-1689436800@www.caveakron.org
SUMMARY:Moth Cock / Tiger Village / Skipped Dent
DESCRIPTION:
URL:https://www.caveakron.org/calendar/moth-cock-tiger-village-skipped-dent/
ATTACH;FMTTYPE=image/jpeg:https://www.caveakron.org/wp-content/uploads/2024/03/6DC1B06C-DD79-45EF-8A42-0F61B8A078FB.jpeg
END:VEVENT
BEGIN:VEVENT
DTSTART;TZID=America/Detroit:20230701T160000
DTEND;TZID=America/Detroit:20230701T160000
DTSTAMP:20260419T163445
CREATED:20240302T043421Z
LAST-MODIFIED:20240302T072548Z
UID:496-1688227200-1688227200@www.caveakron.org
SUMMARY:Off World / Glacial 23 / Warm Moving Bodies / DJ Have Blue (PGH)
DESCRIPTION:MOLTAR PRESENTS: \nSUMMER TECHNO NIGHT
URL:https://www.caveakron.org/calendar/off-world-glacial-23-warm-moving-bodies-dj-have-blue-pgh/
ATTACH;FMTTYPE=image/jpeg:https://www.caveakron.org/wp-content/uploads/2024/03/DDC32551-AAC7-4991-9B6B-6CF0D7E66425.jpeg
END:VEVENT
BEGIN:VEVENT
DTSTART;TZID=America/Detroit:20230616T160000
DTEND;TZID=America/Detroit:20230616T160000
DTSTAMP:20260419T163445
CREATED:20240302T043727Z
LAST-MODIFIED:20240302T072625Z
UID:498-1686931200-1686931200@www.caveakron.org
SUMMARY:babybaby_explores (RI) / Dave Rich & His Enablers
DESCRIPTION:
URL:https://www.caveakron.org/calendar/babybaby_explores-dave-rich-his-enablers/
ATTACH;FMTTYPE=image/jpeg:https://www.caveakron.org/wp-content/uploads/2024/03/ED36662E-48EA-4B53-9202-C387B714E6C9.jpeg
END:VEVENT
BEGIN:VEVENT
DTSTART;TZID=America/Detroit:20230526T160000
DTEND;TZID=America/Detroit:20230526T160000
DTSTAMP:20260419T163445
CREATED:20240302T044014Z
LAST-MODIFIED:20240302T072252Z
UID:500-1685116800-1685116800@www.caveakron.org
SUMMARY:Serious Business Comedy Show
DESCRIPTION:w/ Dezhawn & Associates
URL:https://www.caveakron.org/calendar/serious-business-comedy-show/
ATTACH;FMTTYPE=image/jpeg:https://www.caveakron.org/wp-content/uploads/2024/03/C669DEEF-1166-4638-969B-29834BC75433.jpeg
END:VEVENT
BEGIN:VEVENT
DTSTART;TZID=America/Detroit:20230513T160000
DTEND;TZID=America/Detroit:20230513T160000
DTSTAMP:20260419T163445
CREATED:20240302T045123Z
LAST-MODIFIED:20240302T071913Z
UID:503-1683993600-1683993600@www.caveakron.org
SUMMARY:LORD OLO / DARQ MARQ / JIHAD / DAWG 9000
DESCRIPTION:
URL:https://www.caveakron.org/calendar/lord-olo-darq-marq-jihad-dawg-9000/
ATTACH;FMTTYPE=image/jpeg:https://www.caveakron.org/wp-content/uploads/2024/03/013BA073-C9E8-4040-B1C5-35DC43D7113B.jpeg
END:VEVENT
BEGIN:VEVENT
DTSTART;TZID=America/Detroit:20230502T160000
DTEND;TZID=America/Detroit:20230502T160000
DTSTAMP:20260419T163445
CREATED:20240302T045555Z
LAST-MODIFIED:20240302T072212Z
UID:505-1683043200-1683043200@www.caveakron.org
SUMMARY:Sunburned Hand of the Man (MA) / Powers/Rolin Duo (CBUS) / Actual Form
DESCRIPTION:
URL:https://www.caveakron.org/calendar/sunburned-hand-of-the-man-ma-powers-rolin-duo-cbus-actual-form/
ATTACH;FMTTYPE=image/jpeg:https://www.caveakron.org/wp-content/uploads/2024/03/FA216C83-523A-4A2E-BDDD-0F905E6F80A6.jpeg
END:VEVENT
BEGIN:VEVENT
DTSTART;TZID=America/Detroit:20230421T160000
DTEND;TZID=America/Detroit:20230421T160000
DTSTAMP:20260419T163445
CREATED:20240302T050248Z
LAST-MODIFIED:20240302T072130Z
UID:507-1682092800-1682092800@www.caveakron.org
SUMMARY:Summer Like The Season (DET) / Stems / Matt Kurtz
DESCRIPTION:
URL:https://www.caveakron.org/calendar/summer-like-the-season-det-stems-matt-kurtz/
ATTACH;FMTTYPE=image/jpeg:https://www.caveakron.org/wp-content/uploads/2024/03/D3F62436-C0CA-4661-9675-6BA4E890AE0E.jpeg
END:VEVENT
BEGIN:VEVENT
DTSTART;TZID=America/Detroit:20230408T160000
DTEND;TZID=America/Detroit:20230408T195900
DTSTAMP:20260419T163445
CREATED:20230110T003650Z
LAST-MODIFIED:20240302T071546Z
UID:411-1680969600-1680983940@www.caveakron.org
SUMMARY:CAVE FEST 2023
DESCRIPTION:CAVE FEST 2023 \nDoors: 8:00pm / Show: 8:30pm\n$10 cover charge / All ages. / BYOB 21+; we ID. \nStreet parking is available on the same side of the street as the venue.\nOverflow parking is available in the Ardmore Inc. parking lot\, located at 981 E. Market St. \nMasks are STRONGLY encouraged and KN95s & hand sanitizer will be provided.\nPlease stay home if you are not feeling well. \n \nCAVE is a safe(r) space. Questions? Email caveakron@gmail.com
URL:https://www.caveakron.org/calendar/cave-fest-2023/
LOCATION:CAVE Akron\, 15 Broad St.\, Akron\, Ohio\, 44305\, United States
ATTACH;FMTTYPE=image/jpeg:https://www.caveakron.org/wp-content/uploads/2023/01/F339A89B-7862-4274-9E82-58783D2DBCC0.jpeg
ORGANIZER;CN="CAVE Akron":MAILTO:caveakron@gmail.com
END:VEVENT
BEGIN:VEVENT
DTSTART;TZID=America/Detroit:20230331T160000
DTEND;TZID=America/Detroit:20230331T195900
DTSTAMP:20260419T163445
CREATED:20230110T003509Z
LAST-MODIFIED:20240302T071333Z
UID:409-1680278400-1680292740@www.caveakron.org
SUMMARY:Free Black! / Beyonderers / Tiny the Dream
DESCRIPTION:Free Black! / Beyonderers / Tiny the Dream \nDoors: 8:00pm / Show: 8:30pm\n$10 cover charge / All ages. / BYOB 21+; we ID. \nStreet parking is available on the same side of the street as the venue.\nOverflow parking is available in the Ardmore Inc. parking lot\, located at 981 E. Market St. \nMasks are STRONGLY encouraged and KN95s & hand sanitizer will be provided.\nPlease stay home if you are not feeling well. \n \nCAVE is a safe(r) space. Questions? Email caveakron@gmail.com
URL:https://www.caveakron.org/calendar/free-black-beyonderers-tiny-the-dream/
LOCATION:CAVE Akron\, 15 Broad St.\, Akron\, Ohio\, 44305\, United States
ATTACH;FMTTYPE=image/jpeg:https://www.caveakron.org/wp-content/uploads/2023/01/55AB4DD4-4007-4BC7-9B81-C75AF0B8E747.jpeg
ORGANIZER;CN="CAVE Akron":MAILTO:caveakron@gmail.com
END:VEVENT
BEGIN:VEVENT
DTSTART;TZID=America/Detroit:20230325T160000
DTEND;TZID=America/Detroit:20230325T195900
DTSTAMP:20260419T163445
CREATED:20230110T003153Z
LAST-MODIFIED:20240302T080605Z
UID:407-1679760000-1679774340@www.caveakron.org
SUMMARY:Public Speaking (Brooklyn) / J. Bryan Parks / Ally Amaral
DESCRIPTION:Public Speaking (Brooklyn) / J. Bryan Parks / & More \nDoors: 8:00pm / Show: 8:30pm\n$10 cover charge / All ages. / BYOB 21+; we ID. \nStreet parking is available on the same side of the street as the venue.\nOverflow parking is available in the Ardmore Inc. parking lot\, located at 981 E. Market St. \nMasks are STRONGLY encouraged and KN95s & hand sanitizer will be provided.\nPlease stay home if you are not feeling well. \n \nCAVE is a safe(r) space. Questions? Email caveakron@gmail.com
URL:https://www.caveakron.org/calendar/public-speaking-brooklyn-j-bryan-parks-more/
LOCATION:CAVE Akron\, 15 Broad St.\, Akron\, Ohio\, 44305\, United States
ATTACH;FMTTYPE=image/jpeg:https://www.caveakron.org/wp-content/uploads/2023/01/B84E2F43-CB63-46C4-91BC-632215C86850.jpeg
ORGANIZER;CN="CAVE Akron":MAILTO:caveakron@gmail.com
END:VEVENT
BEGIN:VEVENT
DTSTART;TZID=America/Detroit:20230311T150000
DTEND;TZID=America/Detroit:20230311T185900
DTSTAMP:20260419T163445
CREATED:20230110T002850Z
LAST-MODIFIED:20240302T080447Z
UID:405-1678546800-1678561140@www.caveakron.org
SUMMARY:Moltar Presents: Spring Techno Night
DESCRIPTION:Moltar Presents: Spring Techno Night \nDoors: 8:00pm / Show: 8:30pm\n$10 cover charge / All ages. / BYOB 21+; we ID. \nStreet parking is available on the same side of the street as the venue.\nOverflow parking is available in the Ardmore Inc. parking lot\, located at 981 E. Market St. \nMasks are STRONGLY encouraged and KN95s & hand sanitizer will be provided.\nPlease stay home if you are not feeling well. \n \nCAVE is a safe(r) space. Questions? Email caveakron@gmail.com
URL:https://www.caveakron.org/calendar/moltar-presents-spring-techno-night/
LOCATION:CAVE Akron\, 15 Broad St.\, Akron\, Ohio\, 44305\, United States
ATTACH;FMTTYPE=image/jpeg:https://www.caveakron.org/wp-content/uploads/2023/01/5F75BA13-21C9-44E2-8F23-8365FB1E7FA8.jpeg
ORGANIZER;CN="CAVE Akron":MAILTO:caveakron@gmail.com
END:VEVENT
BEGIN:VEVENT
DTSTART;TZID=America/Detroit:20230218T150000
DTEND;TZID=America/Detroit:20230218T185900
DTSTAMP:20260419T163445
CREATED:20230109T235725Z
LAST-MODIFIED:20240302T080345Z
UID:403-1676732400-1676746740@www.caveakron.org
SUMMARY:Boy Future Guitars (Album Release) / 12 O'Clock Tribe / Moth Cock
DESCRIPTION:Boy Future Guitars (Album Release) / 12 O’Clock Tribe / Moth Cock \nDoors: 8:00pm / Show: 8:30pm\n$10 cover charge / All ages. / BYOB 21+; we ID. \nStreet parking is available on the same side of the street as the venue.\nOverflow parking is available in the Ardmore Inc. parking lot\, located at 981 E. Market St. \nMasks are STRONGLY encouraged and KN95s & hand sanitizer will be provided.\nPlease stay home if you are not feeling well. \n \nCAVE is a safe(r) space. Questions? Email caveakron@gmail.com
URL:https://www.caveakron.org/calendar/boy-future-guitars-album-release-12-oclock-tribe-moth-cock/
LOCATION:CAVE Akron\, 15 Broad St.\, Akron\, Ohio\, 44305\, United States
ATTACH;FMTTYPE=image/jpeg:https://www.caveakron.org/wp-content/uploads/2023/01/09224836-FBAE-4B5D-A09B-93D8A4FAE679.jpeg
ORGANIZER;CN="CAVE Akron":MAILTO:caveakron@gmail.com
END:VEVENT
BEGIN:VEVENT
DTSTART;TZID=America/Detroit:20230203T150000
DTEND;TZID=America/Detroit:20230203T185900
DTSTAMP:20260419T163445
CREATED:20230109T235235Z
LAST-MODIFIED:20240302T080255Z
UID:400-1675436400-1675450740@www.caveakron.org
SUMMARY:Minimal Disturbance (Philly) / Comfort Bros. / Stephan Haluska
DESCRIPTION:Minimal Disturbance (Philly) / Comfort Bros. / Stephan Haluska \nDoors: 8:00pm / Show: 8:30pm\n$10 cover charge / All ages. / BYOB 21+; we ID. \nStreet parking is available on the same side of the street as the venue.\nOverflow parking is available in the Ardmore Inc. parking lot\, located at 981 E. Market St. \nMasks are STRONGLY encouraged and KN95s & hand sanitizer will be provided.\nPlease stay home if you are not feeling well. \n \nCAVE is a safe(r) space. Questions? Email caveakron@gmail.com
URL:https://www.caveakron.org/calendar/minimal-disturbance-philly-comfort-bros-stephan-haluska/
LOCATION:CAVE Akron\, 15 Broad St.\, Akron\, Ohio\, 44305\, United States
ATTACH;FMTTYPE=image/jpeg:https://www.caveakron.org/wp-content/uploads/2023/01/9EDE7F57-9D9A-4272-948F-01F6AAC1AB92.jpeg
ORGANIZER;CN="CAVE Akron":MAILTO:caveakron@gmail.com
END:VEVENT
BEGIN:VEVENT
DTSTART;TZID=America/Detroit:20230128T150000
DTEND;TZID=America/Detroit:20230128T185900
DTSTAMP:20260419T163445
CREATED:20230109T234220Z
LAST-MODIFIED:20240302T075914Z
UID:397-1674918000-1674932340@www.caveakron.org
SUMMARY:GRIPHOOK / MURDEROUS VISION / UNCHIPPED
DESCRIPTION:Griphook (Akron)\ngriphookband.bandcamp.com\nUnchipped (Columbus)\nunchipped.bandcamp.com\nMurderous Vision (Painesville)\nmurderousvision1.bandcamp.com\n\n01.14.23\n\nDoors: 8:00pm / Show: 8:30pm\n$10 cover charge / All ages. / BYOB 21+; we ID. \nStreet parking is available on the same side of the street as the venue.\nOverflow parking is available in the Ardmore Inc. parking lot\, located at 981 E. Market St. \nMasks are STRONGLY encouraged and KN95s & hand sanitizer will be provided.\nPlease stay home if you are not feeling well. \n \nCAVE is a safe(r) space. Questions? Email caveakron@gmail.com
URL:https://www.caveakron.org/calendar/griphook-murderous-vision-unchipped/
LOCATION:CAVE Akron\, 15 Broad St.\, Akron\, Ohio\, 44305\, United States
ATTACH;FMTTYPE=image/jpeg:https://www.caveakron.org/wp-content/uploads/2023/01/4940E649-6D89-4FB6-8995-1DDC38739D1A.jpeg
ORGANIZER;CN="CAVE Akron":MAILTO:caveakron@gmail.com
END:VEVENT
BEGIN:VEVENT
DTSTART;TZID=America/Detroit:20230114T150000
DTEND;TZID=America/Detroit:20230114T185900
DTSTAMP:20260419T163445
CREATED:20230109T233526Z
LAST-MODIFIED:20240302T075800Z
UID:393-1673708400-1673722740@www.caveakron.org
SUMMARY:IMPROVOCALYPSE Unc D / Thin Thicket / & more
DESCRIPTION:IMPROVOCALYPSE\nUnc D / Thin Thicket / & more\n\nIMPROV-OCALYPSE is a live beat making event hosted by electronic jazz producers Unc D and Thin Thicket. Part performance and part studio session\, IMPROV-OCALYPSE facilitates the creation of electronic music from scratch in real time. Just like a jam session\, musicians and producers are invited to bring their instruments or beat making gear to join in on the improv beat making\, and even audience members will be encouraged to participate in simple ways such as recording claps and snaps. IMPROV-OCALYPSE is the only event of its kind in our area\, come be a part of the improv magic!\nDoors: 8:00pm / Show: 8:30pm\n$10 cover charge / All ages. / BYOB 21+; we ID. \nStreet parking is available on the same side of the street as the venue.\nOverflow parking is available in the Ardmore Inc. parking lot\, located at 981 E. Market St. \nMasks are STRONGLY encouraged and KN95s & hand sanitizer will be provided.\nPlease stay home if you are not feeling well. \n \nCAVE is a safe(r) space. Questions? Email caveakron@gmail.com
URL:https://www.caveakron.org/calendar/393/
LOCATION:CAVE Akron\, 15 Broad St.\, Akron\, Ohio\, 44305\, United States
ATTACH;FMTTYPE=image/jpeg:https://www.caveakron.org/wp-content/uploads/2023/01/F0A18B88-2BAA-43D8-AC2F-61D600FB7A14.jpeg
ORGANIZER;CN="CAVE Akron":MAILTO:caveakron@gmail.com
END:VEVENT
BEGIN:VEVENT
DTSTART;TZID=America/Detroit:20221210T150000
DTEND;TZID=America/Detroit:20221210T150000
DTSTAMP:20260419T163445
CREATED:20240302T073552Z
LAST-MODIFIED:20240302T073552Z
UID:542-1670684400-1670684400@www.caveakron.org
SUMMARY:MOLTAR PRESENTS: WINTER TECHNO NIGHT
DESCRIPTION:
URL:https://www.caveakron.org/calendar/moltar-presents-winter-techno-night/
ATTACH;FMTTYPE=image/jpeg:https://www.caveakron.org/wp-content/uploads/2024/03/10D36429-BE15-4227-9395-2F06147FF5CD.jpeg
END:VEVENT
BEGIN:VEVENT
DTSTART;TZID=America/Detroit:20221126T150000
DTEND;TZID=America/Detroit:20221126T185900
DTSTAMP:20260419T163445
CREATED:20221103T164730Z
LAST-MODIFIED:20221103T164730Z
UID:378-1669474800-1669489140@www.caveakron.org
SUMMARY:H(ANN)AH B KLOROX UNPLUGGED / STABSCOTCH / PROFIT PROFIT
DESCRIPTION:H(ANN)AH B KLOROX UNPLUGGED / STABSCOTCH / PROFIT PROFIT \nDoors: 8:00pm / Show: 8:30pm\n$10 cover charge / All ages. / BYOB 21+; we ID. \nStreet parking is available on the same side of the street as the venue.\nOverflow parking is available in the Ardmore Inc. parking lot\, located at 981 E. Market St. \nMasks are STRONGLY encouraged and KN95s & hand sanitizer will be provided.\nPlease stay home if you are not feeling well. \n \nCAVE is a safe(r) space. Questions? Email caveakron@gmail.com
URL:https://www.caveakron.org/calendar/hannah-b-klorox-unplugged-stabscotch-profit-profit/
LOCATION:CAVE Akron\, 15 Broad St.\, Akron\, Ohio\, 44305\, United States
ATTACH;FMTTYPE=image/jpeg:https://www.caveakron.org/wp-content/uploads/2022/11/1126_8x10_v2.jpg
END:VEVENT
BEGIN:VEVENT
DTSTART;TZID=America/Detroit:20221112T150000
DTEND;TZID=America/Detroit:20221112T185900
DTSTAMP:20260419T163445
CREATED:20221103T164116Z
LAST-MODIFIED:20221104T194820Z
UID:374-1668265200-1668279540@www.caveakron.org
SUMMARY:GLENN LAZEAR / UNC D / V
DESCRIPTION:GLENN LAZEAR / UNC D / V \nDoors: 8:00pm / Show: 8:30pm\n$10 cover charge / All ages. / BYOB 21+; we ID. \nStreet parking is available on the same side of the street as the venue.\nOverflow parking is available in the Ardmore Inc. parking lot\, located at 981 E. Market St. \nMasks are STRONGLY encouraged and KN95s & hand sanitizer will be provided.\nPlease stay home if you are not feeling well. \n \nCAVE is a safe(r) space. Questions? Email caveakron@gmail.com
URL:https://www.caveakron.org/calendar/glenn-lazear-unc-d-z/
LOCATION:CAVE Akron\, 15 Broad St.\, Akron\, Ohio\, 44305\, United States
ATTACH;FMTTYPE=image/jpeg:https://www.caveakron.org/wp-content/uploads/2022/11/1112_8x10_v2.jpg
END:VEVENT
BEGIN:VEVENT
DTSTART;TZID=America/Detroit:20221029T160000
DTEND;TZID=America/Detroit:20221029T195900
DTSTAMP:20260419T163445
CREATED:20221005T170435Z
LAST-MODIFIED:20240302T072900Z
UID:363-1667059200-1667073540@www.caveakron.org
SUMMARY:REED EVAN PARKER / LEMON QUARTET / OCCVLT MANIFEST / R6 IMPLANT
DESCRIPTION:  \nHALLOWEEN COSTUME PARTY! \nDoors: 8:00pm / Show: 8:30pm\n$10 cover charge / All ages. / BYOB 21+; we ID. \nStreet parking is available on the same side of the street as the venue.\nOverflow parking is available in the Ardmore Inc. parking lot\, located at 981 E. Market St. \nMasks are STRONGLY encouraged and KN95s & hand sanitizer will be provided.\nPlease stay home if you are not feeling well. \n \nCAVE is a safe(r) space. Questions? Email caveakron@gmail.com
URL:https://www.caveakron.org/calendar/jesse-beaman-dosh-lemon-quartet/
LOCATION:CAVE Akron\, 15 Broad St.\, Akron\, Ohio\, 44305\, United States
ATTACH;FMTTYPE=image/jpeg:https://www.caveakron.org/wp-content/uploads/2022/10/C4E9838D-6205-41D7-94D4-C470E64A68AE.jpeg
END:VEVENT
BEGIN:VEVENT
DTSTART;TZID=America/Detroit:20221001T150000
DTEND;TZID=America/Detroit:20221001T195900
DTSTAMP:20260419T163445
CREATED:20220926T184018Z
LAST-MODIFIED:20220926T184018Z
UID:359-1664636400-1664654340@www.caveakron.org
SUMMARY:DYKENYTE / OWNEY THE POSTAL DOG / TINY THE DREAM / LANGUAGE
DESCRIPTION:DYKENYTE / OWNEY THE POSTAL DOG / TINY THE DREAM / LANGUAGE \nDJ DANNY POTPOURRI \nDoors: 7:00pm / Show: 7:30pm\n$10 cover charge / All ages. / BYOB 21+; we ID. \nStreet parking is available on the same side of the street as the venue.\nOverflow parking is available in the Ardmore Inc. parking lot\, located at 981 E. Market St. \nMasks are STRONGLY encouraged and KN95s & hand sanitizer will be provided.\nPlease stay home if you are not feeling well. \n \nCAVE is a safe(r) space. Questions? Email caveakron@gmail.com
URL:https://www.caveakron.org/calendar/dykenyte-owney-the-postal-dog-tiny-the-dream-language/
LOCATION:CAVE Akron\, 15 Broad St.\, Akron\, Ohio\, 44305\, United States
ATTACH;FMTTYPE=image/jpeg:https://www.caveakron.org/wp-content/uploads/2022/09/101_8x10.jpg
END:VEVENT
BEGIN:VEVENT
DTSTART;TZID=America/Detroit:20220923T150000
DTEND;TZID=America/Detroit:20220923T195900
DTSTAMP:20260419T163445
CREATED:20220827T201506Z
LAST-MODIFIED:20220901T061255Z
UID:353-1663945200-1663963140@www.caveakron.org
SUMMARY:KARL’S BDAY BASH
DESCRIPTION:OBNOX / KARL VORNDRAN / BBOB DRAKE & J. GUY / JOEY MOLINARO \nDoors: 7:00pm / Show: 7:30pm\n$10 cover charge / All ages. / BYOB 21+; we ID. \nStreet parking is available on the same side of the street as the venue.\nOverflow parking is available in the Ardmore Inc. parking lot\, located at 981 E. Market St. \nMasks are STRONGLY encouraged and KN95s & hand sanitizer will be provided.\nPlease stay home if you are not feeling well. \n \nCAVE is a safe(r) space. Questions? Email caveakron@gmail.com
URL:https://www.caveakron.org/calendar/karls-bday-bash/
LOCATION:CAVE Akron\, 15 Broad St.\, Akron\, Ohio\, 44305\, United States
ATTACH;FMTTYPE=image/jpeg:https://www.caveakron.org/wp-content/uploads/2022/08/A949F459-3374-423A-8F39-EA1AB21445EE.jpeg
END:VEVENT
BEGIN:VEVENT
DTSTART;TZID=America/Detroit:20220827T150000
DTEND;TZID=America/Detroit:20220827T195900
DTSTAMP:20260419T163445
CREATED:20220804T215142Z
LAST-MODIFIED:20220827T200534Z
UID:348-1661612400-1661630340@www.caveakron.org
SUMMARY:TECHNO NIGHT
DESCRIPTION:SEACLONES / GLACIAL 23 / MINT CLAD / DANNY POTPOURRI  \nDJ MOLTAR / DJ HANNAH / VJ SCARE WORDS \nDoors: 7:00pm / Show: 7:30pm\n$10 cover charge / All ages. / BYOB 21+; we ID. \nStreet parking is available on the same side of the street as the venue.\nOverflow parking is available in the Ardmore Inc. parking lot\, located at 981 E. Market St. \nMasks are STRONGLY encouraged and KN95s & hand sanitizer will be provided.\nPlease stay home if you are not feeling well. \n \nCAVE is a safe(r) space. Questions? Email caveakron@gmail.com
URL:https://www.caveakron.org/calendar/techno-night/
LOCATION:CAVE Akron\, 15 Broad St.\, Akron\, Ohio\, 44305\, United States
ATTACH;FMTTYPE=image/jpeg:https://www.caveakron.org/wp-content/uploads/2022/08/8-27-22_new-scaled.jpg
END:VEVENT
BEGIN:VEVENT
DTSTART;TZID=America/Detroit:20220813T160000
DTEND;TZID=America/Detroit:20220813T195900
DTSTAMP:20260419T163445
CREATED:20220804T214734Z
LAST-MODIFIED:20220804T214734Z
UID:345-1660406400-1660420740@www.caveakron.org
SUMMARY:GREEN TREE NOVELTY TEA / GRIPHOOK / HALFWAY COTTAGES
DESCRIPTION:GREEN TREE NOVELTY TEA / GRIPHOOK / HALFWAY COTTAGES \nDoors: 8:00pm / Show: 8:30pm\n$10 cover charge / All ages. / BYOB 21+; we ID. \nStreet parking is available on the same side of the street as the venue.\nOverflow parking is available in the Ardmore Inc. parking lot\, located at 981 E. Market St. \nMasks are STRONGLY encouraged and KN95s & hand sanitizer will be provided.\nPlease stay home if you are not feeling well. \n \nCAVE is a safe(r) space. Questions? Email caveakron@gmail.com
URL:https://www.caveakron.org/calendar/green-tree-novelty-tea-griphook-halfway-cottages/
LOCATION:CAVE Akron\, 15 Broad St.\, Akron\, Ohio\, 44305\, United States
ATTACH;FMTTYPE=image/jpeg:https://www.caveakron.org/wp-content/uploads/2022/08/813_8x10_ver2.jpg
END:VEVENT
BEGIN:VEVENT
DTSTART;TZID=America/Detroit:20220723T153000
DTEND;TZID=America/Detroit:20220723T195900
DTSTAMP:20260419T163445
CREATED:20220712T183645Z
LAST-MODIFIED:20220721T004246Z
UID:337-1658590200-1658606340@www.caveakron.org
SUMMARY:TRAVELOGUE / SALVA BRYN / PONCILI CREACIÓN / FUTURE CHILDREN / NOSAWWASON
DESCRIPTION:TRAVELOGUE / SALVA BRYN / PONCILI CREACIÓN / FUTURE CHILDREN / NOSAWWASON \nDoors: 7:00pm / Show: 7:30pm\n$10 cover charge / All ages. / BYOB 21+; we ID. \nStreet parking is available on the same side of the street as the venue.\nOverflow parking is available in the Ardmore Inc. parking lot\, located at 981 E. Market St. \nMasks are STRONGLY encouraged and KN95s & hand sanitizer will be provided.\nPlease stay home if you are not feeling well. \n \nCAVE is a safe(r) space. Questions? Email caveakron@gmail.com
URL:https://www.caveakron.org/calendar/travelogue-salva-bryn-future-children-nosawwason/
LOCATION:CAVE Akron\, 15 Broad St.\, Akron\, Ohio\, 44305\, United States
ATTACH;FMTTYPE=image/jpeg:https://www.caveakron.org/wp-content/uploads/2022/07/723_8x10_ver3.jpeg
END:VEVENT
BEGIN:VEVENT
DTSTART;TZID=America/Detroit:20220618T160000
DTEND;TZID=America/Detroit:20220618T195900
DTSTAMP:20260419T163445
CREATED:20220524T180740Z
LAST-MODIFIED:20240302T080104Z
UID:277-1655568000-1655582340@www.caveakron.org
SUMMARY:ACTUAL FORM / BLANK HELLSCAPE / ORION'S SWORD
DESCRIPTION:Saturday\, June 18\nCAVE (Center for AudioVisual Experimentation)\n15 Broad St.\, Akron\, Ohio \nACTUAL FORM / BLANK HELLSCAPE / ORION’S SWORD \nDoors: 8:00pm / Show: 8:30pm\n$10 cover charge / All ages. / BYOB 21+; we ID. \nStreet parking is available on the same side of the street as the venue.\nOverflow parking is available in the Ardmore Inc. parking lot\, located at 981 E. Market St. \nMasks are STRONGLY encouraged and KN95s & hand sanitizer will be provided.\nPlease stay home if you are not feeling well. \n \nCAVE is a safe(r) space. Questions? Email caveakron@gmail.com
URL:https://www.caveakron.org/calendar/actual-form-blank-hellscape-orions-sword/
LOCATION:CAVE Akron\, 15 Broad St.\, Akron\, Ohio\, 44305\, United States
ATTACH;FMTTYPE=image/jpeg:https://www.caveakron.org/wp-content/uploads/2022/05/EE5E73F9-1DA6-4631-AD5D-569C36922BBE-scaled.jpeg
END:VEVENT
BEGIN:VEVENT
DTSTART;TZID=America/Detroit:20220528T150000
DTEND;TZID=America/Detroit:20220528T195900
DTSTAMP:20260419T163445
CREATED:20220509T181653Z
LAST-MODIFIED:20220509T181814Z
UID:242-1653750000-1653767940@www.caveakron.org
SUMMARY:Big Noise Candy Mountain Fundraiser
DESCRIPTION:Saturday\, May 28\nCAVE (Center for AudioVisual Experimentation)\n15 Broad St.\, Akron\, Ohio \nTALONS’ // PUBLIC RELATIONS // CANE SWORDS // LET’S FIGHT! \nDJ EENY + DJ Dr. QUINN MEDICINE WOMAN \nFundraiser show for Big Noise Candy Mountain\n+ Public Relations cassette release \nDoors: 7:00pm / Show: 7:30pm\n$10 cover charge / All ages. / BYOB 21+; we ID. \nStreet parking is available on the same side of the street as the venue.\nOverflow parking is available in the Ardmore Inc. parking lot\, located at 981 E. Market St. \nMasks are STRONGLY encouraged and KN95s & hand sanitizer will be provided.\nPlease stay home if you are not feeling well. \n \nCAVE is a safe(r) space. Questions? Email caveakron@gmail.com
URL:https://www.caveakron.org/calendar/big-noise-candy-mountain-fundraiser/
LOCATION:CAVE Akron\, 15 Broad St.\, Akron\, Ohio\, 44305\, United States
ATTACH;FMTTYPE=image/jpeg:https://www.caveakron.org/wp-content/uploads/2022/05/BNCM_fundraiser-scaled.jpg
END:VEVENT
BEGIN:VEVENT
DTSTART;TZID=America/Detroit:20220514T043000
DTEND;TZID=America/Detroit:20220514T195900
DTSTAMP:20260419T163445
CREATED:20220423T022100Z
LAST-MODIFIED:20220509T180810Z
UID:231-1652502600-1652558340@www.caveakron.org
SUMMARY:BROOD X / LORD OLO / ELIY ORCKO
DESCRIPTION:Saturday\, May 14\nCAVE (Center for AudioVisual Experimentation)\n15 Broad St.\, Akron\, Ohio \nBROOD X / LORD OLO / ELIY ORCKO \nDoors: 8:00pm / Show: 8:30pm\n$5 cover charge / All ages. / BYOB 21+; we ID. \nStreet parking is available on the same side of the street as the venue.\nOverflow parking is available in the Ardmore Inc. parking lot\, located at 981 E. Market St. \nMasks are STRONGLY encouraged and KN95s & hand sanitizer will be provided.\nPlease stay home if you are not feeling well. \n \nCAVE is a safe(r) space. Questions? Email caveakron@gmail.com
URL:https://www.caveakron.org/calendar/brood-x-lord-olo-eliy-orcko/
LOCATION:CAVE Akron\, 15 Broad St.\, Akron\, Ohio\, 44305\, United States
ATTACH;FMTTYPE=image/jpeg:https://www.caveakron.org/wp-content/uploads/2022/04/may_14_8x10-1.jpg
END:VEVENT
END:VCALENDAR